BEGIN:VCALENDAR
PRODID:-//AT Content Types//AT Event//EN
VERSION:2.0
METHOD:PUBLISH
BEGIN:VEVENT
DTSTAMP:20260422T103729Z
CREATED:20230118T215513Z
UID:ATEvent-aaf99412d1ba412a956209d55799a424
LAST-MODIFIED:20240417T081226Z
SUMMARY:Pascua del Padre Duchenne\, artesano de la unión
DTSTART:20250114T230000Z
DTEND:20250114T230000Z
CLASS:PUBLIC
END:VEVENT
END:VCALENDAR
